ENVI
samples = 10007
lines = 6412
bands = 1
header offset = 0
file type = ENVI Standard
data type = 1
interleave = bsq
sensor type = Unknown
byte order = 0
x start = 3060
y start = 2686
map info = {lam, 1.0000, 1.0000, -2366213.3380, 1333273.2138, 4.6331271400e+02, 4.6331271400e+02, WGS-84, units=Meters}
projection info = {36, 6370997.0, 40.000000, -96.000000, 0.0, 0.0, WGS-84, lam, units=Meters}
wavelength units = Unknown
band names = { irrigation}
